BEGIN:VCALENDAR
VERSION:2.0
PRODID:-//San Joaquin Valley Manufacturing Alliance - ECPv6.15.20//NONSGML v1.0//EN
CALSCALE:GREGORIAN
METHOD:PUBLISH
X-WR-CALNAME:San Joaquin Valley Manufacturing Alliance
X-ORIGINAL-URL:https://sjvma.org
X-WR-CALDESC:Events for San Joaquin Valley Manufacturing Alliance
REFRESH-INTERVAL;VALUE=DURATION:PT1H
X-Robots-Tag:noindex
X-PUBLISHED-TTL:PT1H
BEGIN:VTIMEZONE
TZID:America/Los_Angeles
BEGIN:DAYLIGHT
TZOFFSETFROM:-0800
TZOFFSETTO:-0700
TZNAME:PDT
DTSTART:20230312T100000
END:DAYLIGHT
BEGIN:STANDARD
TZOFFSETFROM:-0700
TZOFFSETTO:-0800
TZNAME:PST
DTSTART:20231105T090000
END:STANDARD
BEGIN:DAYLIGHT
TZOFFSETFROM:-0800
TZOFFSETTO:-0700
TZNAME:PDT
DTSTART:20240310T100000
END:DAYLIGHT
BEGIN:STANDARD
TZOFFSETFROM:-0700
TZOFFSETTO:-0800
TZNAME:PST
DTSTART:20241103T090000
END:STANDARD
BEGIN:DAYLIGHT
TZOFFSETFROM:-0800
TZOFFSETTO:-0700
TZNAME:PDT
DTSTART:20250309T100000
END:DAYLIGHT
BEGIN:STANDARD
TZOFFSETFROM:-0700
TZOFFSETTO:-0800
TZNAME:PST
DTSTART:20251102T090000
END:STANDARD
BEGIN:DAYLIGHT
TZOFFSETFROM:-0800
TZOFFSETTO:-0700
TZNAME:PDT
DTSTART:20260308T100000
END:DAYLIGHT
BEGIN:STANDARD
TZOFFSETFROM:-0700
TZOFFSETTO:-0800
TZNAME:PST
DTSTART:20261101T090000
END:STANDARD
END:VTIMEZONE
BEGIN:VEVENT
DTSTART;TZID=America/Los_Angeles:20250903T090000
DTEND;TZID=America/Los_Angeles:20250903T110000
DTSTAMP:20260419T103830
CREATED:20241220T195923Z
LAST-MODIFIED:20250819T181301Z
UID:1644-1756890000-1756897200@sjvma.org
SUMMARY:Q3 Member Meeting - Unlocking Your Manufacturing Future: Connect\, Learn\, and Build with SJVMA
DESCRIPTION:Join us for an extraordinary opportunity to revolutionize the future of manufacturing in our region. The San Joaquin Valley Manufacturing Alliance (SJVMA) proudly invites you to an open house where we’re bringing the heart of manufacturing education directly to you\, right in your backyard!\n\nDate & Location:\n📅 Wednesday\, September 3 – 9-11 AM\n📍 CTEC High School\n\nWhy Attend? \n\nConnect with Leading Educators: Meet the passionate educators behind the innovative training and education programs at CTEC. Gain insights\, establish connections\, and explore collaborative opportunities to shape the future of your workforce.\nDiscover Cutting-Edge Programs: Dive deep into the diverse array of training programs tailored to meet the demands of modern manufacturing. From specialized courses to hands-on workshops\, uncover the resources available to equip your workforce with the skills they need to thrive.\nExperience Campus Facilities: Immerse yourself in the state-of-the-art facilities where the magic of manufacturing education happens. Take a guided tour and witness firsthand the environment where your future workforce will be trained to excel in their careers.\nForge Partnerships: Build lasting relationships with local educational institutions\, fostering partnerships that will drive innovation and talent development within your organization. Collaborate on initiatives to bridge the gap between academia and industry\, ensuring a seamless transition for your prospective workforce.\n\nAgenda: \n\n9 – 9:30 AM: Networking: Connect with fellow manufacturers and industry leaders over refreshments.\n9:30 AM: Welcome\n9:45 AM: Faculty Introductions: Meet the esteemed educators leading the charge in manufacturing education. Panel Discussion: Engage in insightful discussions on the future of manufacturing training and workforce development.\n10 AM: Campus Tour: Explore the cutting-edge facilities and witness hands-on demonstrations of training programs in action.\n\nWhy You Can’t Miss This:\nAt SJVMA\, we understand the challenges of building a skilled workforce. That’s why we’re committed to bringing the resources and opportunities directly to you. Don’t miss this chance to shape the future of manufacturing in our region\, starting with the next generation of talent.\n\nRSVP Today:\nSecure your spot at this exclusive event by registering now!\n\nTogether\, let’s pave the way for a brighter future in manufacturing education and workforce development. We look forward to seeing you there! \nFuture meeting dates from 9 -11:00AM are:\n\nWednesday\, November 5 at Edison High School\n\nSAVE THE DATE! Our 10th Annual Valley Made Manufacturing Summit will be held on October 29\, 2025 at the Fresno Convention Center Exhibit Hall!
URL:https://sjvma.org/event/unlocking-your-manufacturing-future-connect-learn-and-build-with-sjvma-5/
LOCATION:Career Technical Education Charter (CTEC) High School\, 1320 N. Mariposa St.\, Fresno\, CA\, 93703\, United States
CATEGORIES:Meeting,networking,new members,Resources,Team building,updates,workforce development
END:VEVENT
BEGIN:VEVENT
DTSTART;TZID=America/Los_Angeles:20250515T120000
DTEND;TZID=America/Los_Angeles:20250515T130000
DTSTAMP:20260419T103830
CREATED:20250211T193636Z
LAST-MODIFIED:20250506T190935Z
UID:1715-1747310400-1747314000@sjvma.org
SUMMARY:Q2 SJVMA HR Roundtable
DESCRIPTION:Please join us and your Manufacturing HR colleagues for lunch at our in-person member roundtable on Thursday\, May 15\, 2025 from 12:00pm to 1:00pm at UC Merced – Fresno Center (550 E. Shaw Ave.\, Fresno\, CA 93710) for great information. Please register here so that we may order your lunch! \nUnlock the Key to a Stronger\, More Resilient Workforce – HR Strategies That Work! \nIn today’s workforce\, employee well-being and support aren’t just perks—they’re essential to retention\, engagement\, and productivity. HR professionals and business leaders are constantly looking for ways to attract\, retain\, and support employees\, but finding the right strategies can be challenging. Join us for the next SJVMA Human Resources Roundtable as we dive into real solutions with insights from Heartland Compass—a proven model in workforce support and wraparound services. Over the past two years\, Heartland Compass has uncovered key strategies that strengthen employee resources\, improve retention\, and create workplace cultures that drive success. This engaging session will explore: \n✅ What’s working: Real-world examples of innovative employee support strategies\n✅ Common challenges: How to overcome HR pain points in retention and engagement\n✅ Actionable solutions: Practical tools you can implement immediately \nDon’t miss this opportunity to connect with other HR leaders\, gain fresh insights\, and walk away with strategies that can transform your workforce. \nTicket sales will close at 5pm on Wednesday\, May 14\, so that lunch may be ordered. \nPlease note: there is a $20 fee for non-SJVMA members to cover the roundtable costs. If you are interested in learning more about SJVMA membership\, please contact Aimee McFarland\, Program Director\, at aimee.mcfarland@sjvma.org.
URL:https://sjvma.org/event/q2-sjvma-hr-roundtable/
LOCATION:UC Merced\, Fresno Office\, 550 E. Shaw Ave.\, Fresno\, CA\, 93710\, United States
CATEGORIES:human resources,Meeting,networking,Resources,Round Table,Team building,updates,workforce development
END:VEVENT
BEGIN:VEVENT
DTSTART;TZID=America/Los_Angeles:20250423T090000
DTEND;TZID=America/Los_Angeles:20250423T110000
DTSTAMP:20260419T103830
CREATED:20241220T193417Z
LAST-MODIFIED:20250205T164745Z
UID:1641-1745398800-1745406000@sjvma.org
SUMMARY:Q2 Member Meeting - Unlocking Your Manufacturing Future: Connect\, Learn\, and Build with SJVMA
DESCRIPTION:Join us for an extraordinary opportunity to revolutionize the future of manufacturing in our region. The San Joaquin Valley Manufacturing Alliance (SJVMA) proudly invites you to an open house where we’re bringing the heart of manufacturing education directly to you\, right in your backyard! \nDate & Location: \n📅 Wednesday\, April 23 – 9-11 AM \n📍 Duncan Polytechnic High School \nWhy Attend? \nConnect with Leading Educators: Meet the passionate educators behind the innovative training and education programs at Duncan. Gain insights\, establish connections\, and explore collaborative opportunities to shape the future of your workforce. \nDiscover Cutting-Edge Programs: Dive deep into the diverse array of training programs tailored to meet the demands of modern manufacturing. From specialized courses to hands-on workshops\, uncover the resources available to equip your workforce with the skills they need to thrive. \nExperience Campus Facilities: Immerse yourself in the state-of-the-art facilities where the magic of manufacturing education happens. Take a guided tour and witness firsthand the environment where your future workforce will be trained to excel in their careers. \nForge Partnerships: Build lasting relationships with local educational institutions\, fostering partnerships that will drive innovation and talent development within your organization. Collaborate on initiatives to bridge the gap between academia and industry\, ensuring a seamless transition for your prospective workforce. \nAgenda: \n9 – 9:30 AM: Networking: Connect with fellow manufacturers and industry leaders over refreshments. \n9:30 AM: Welcome \n9:45 AM: Faculty Introductions: Meet the esteemed educators leading the charge in manufacturing education. \nPanel Discussion: Engage in insightful discussions on the future of manufacturing training and workforce development. \n10 AM: Campus Tour: Explore the cutting-edge facilities and witness hands-on demonstrations of training programs in action. \nWhy You Can’t Miss This: \nAt SJVMA\, we understand the challenges of building a skilled workforce. That’s why we’re committed to bringing the resources and opportunities directly to you. Don’t miss this chance to shape the future of manufacturing in our region\, starting with the next generation of talent. \nRSVP Today: \nSecure your spot at this exclusive event by registering now! \nTogether\, let’s pave the way for a brighter future in manufacturing education and workforce development. We look forward to seeing you there! \nFuture meeting dates from 9 -11:00AM are:\n\nWednesday\, September 3 at CTEC High School\nWednesday\, November 5 at Edison High School\n\nSAVE THE DATE! Our 10th Annual Valley Made Manufacturing Summit will be held on October 29\, 2025 at the Fresno Convention Center Exhibit Hall!
URL:https://sjvma.org/event/unlocking-your-manufacturing-future-connect-learn-and-build-with-sjvma-4/
LOCATION:Duncan Polytechnic High School\, 4330 E. Garland Ave.\, Fresno\, CA\, 93726\, United States
CATEGORIES:Meeting,networking,new members,Resources,Team building,updates,workforce development
END:VEVENT
BEGIN:VEVENT
DTSTART;TZID=America/Los_Angeles:20250219T080000
DTEND;TZID=America/Los_Angeles:20250219T100000
DTSTAMP:20260419T103830
CREATED:20241219T195639Z
LAST-MODIFIED:20250205T164706Z
UID:1633-1739952000-1739959200@sjvma.org
SUMMARY:Q1 Member Meeting - Unlocking Your Manufacturing Future: Connect\, Learn\, and Build with SJVMA
DESCRIPTION:Join us for an extraordinary opportunity to revolutionize the future of manufacturing in our region. The San Joaquin Valley Manufacturing Alliance (SJVMA) proudly invites you to an open house where we’re bringing the heart of manufacturing education directly to you\, right in your backyard! \nDate & Location: \n📅 Wednesday\, February 19 – 8 – 10 AM \n📍 Madera Community College \nWhy Attend? \nConnect with Leading Educators: Meet the passionate faculty members behind the innovative training and education programs at Madera College. Gain insights\, establish connections\, and explore collaborative opportunities to shape the future of your workforce. \nDiscover Cutting-Edge Programs: Dive deep into the diverse array of training programs tailored to meet the demands of modern manufacturing. From specialized courses to hands-on workshops\, uncover the resources available to equip your workforce with the skills they need to thrive. \nExperience Campus Facilities: Immerse yourself in the state-of-the-art facilities where the magic of manufacturing education happens. Take a guided tour and witness firsthand the environment where your future workforce will be trained to excel in their careers. \nForge Partnerships: Build lasting relationships with local educational institutions\, fostering partnerships that will drive innovation and talent development within your organization. Collaborate on initiatives to bridge the gap between academia and industry\, ensuring a seamless transition for your prospective workforce. \nAgenda: \n8 – 8:30 AM: Networking: Connect with fellow manufacturers and industry leaders over refreshments. \n8:30 AM: Welcome \n8:45 AM: Faculty Introductions: Meet the esteemed educators leading the charge in manufacturing education. \nPanel Discussion: Engage in insightful discussions on the future of manufacturing training and workforce development. \n10 AM: Campus Tour: Explore the cutting-edge facilities and witness hands-on demonstrations of training programs in action. \nWhy You Can’t Miss This: \nAt SJVMA\, we understand the challenges of building a skilled workforce. That’s why we’re committed to bringing the resources and opportunities directly to you. Don’t miss this chance to shape the future of manufacturing in our region\, starting with the next generation of talent. \nRSVP Today: \nSecure your spot at this exclusive event by registering now! \nTogether\, let’s pave the way for a brighter future in manufacturing education and workforce development. We look forward to seeing you there! \nFuture meeting dates from 9 -11:00AM are:\n\nWednesday\, April 23 at Duncan Polytechnic High School\nWednesday\, September 3 at CTEC High School\nWednesday\, November 5 at Edison High School\n\nSAVE THE DATE! Our 10th Annual Valley Made Manufacturing Summit will be held on October 29\, 2025 at the Fresno Convention Center Exhibit Hall!
URL:https://sjvma.org/event/unlocking-your-manufacturing-future-connect-learn-and-build-with-sjvma-3/
LOCATION:Madera Community College\, 30277 Avenue 12\, Madera\, CA\, 93638\, United States
CATEGORIES:Meeting,networking,new members,Resources,Team building,updates,workforce development
END:VEVENT
BEGIN:VEVENT
DTSTART;TZID=America/Los_Angeles:20241120T120000
DTEND;TZID=America/Los_Angeles:20241120T130000
DTSTAMP:20260419T103830
CREATED:20240612T210532Z
LAST-MODIFIED:20240613T000753Z
UID:1376-1732104000-1732107600@sjvma.org
SUMMARY:SJVMA's Team Workshop Series (4 of 4)
DESCRIPTION:Join us for our 4th and final exciting in-person lunch and learn workshop series at Clovis Community College Herndon Campus! These workshops are all about fostering teamwork and enhancing collaboration within your team. Whether you’re a manager\, team leader\, or team member\, attendees will gain valuable insights and practical strategies to boost your team’s growth. Please see our flyer for more info! Seats are limited – reserve yours now!
URL:https://sjvma.org/event/sjvmas-team-workshop-series-4-of-4/
LOCATION:390 W. Fir Ave.\, Building B\, Clovis\, CA 93611\, 390 W. Fir Ave.\, Clovis\, CA\, 93611\, United States
CATEGORIES:networking,Resources,Team building,Training
END:VEVENT
BEGIN:VEVENT
DTSTART;TZID=America/Los_Angeles:20240821T120000
DTEND;TZID=America/Los_Angeles:20240821T130000
DTSTAMP:20260419T103830
CREATED:20240612T195504Z
LAST-MODIFIED:20240613T000427Z
UID:1374-1724241600-1724245200@sjvma.org
SUMMARY:SJVMA's Team Workshop Series (3 of 4)
DESCRIPTION:Join us for the 3rd installation of our exciting lunch and learn in-person workshop series at Clovis Community College Herndon Campus! These workshops are all about fostering teamwork and enhancing collaboration within your team. Please see our flyer for more info! Seats are limited – reserve yours now!
URL:https://sjvma.org/event/sjvmas-team-workshop-series-3-of-4/
LOCATION:390 W. Fir Ave.\, Building B\, Clovis\, CA 93611\, 390 W. Fir Ave.\, Clovis\, CA\, 93611\, United States
CATEGORIES:networking,Resources,Team building,Training
END:VEVENT
END:VCALENDAR