BEGIN:VCALENDAR
VERSION:2.0
PRODID:-//San Joaquin Valley Manufacturing Alliance - ECPv6.15.20//NONSGML v1.0//EN
CALSCALE:GREGORIAN
METHOD:PUBLISH
X-WR-CALNAME:San Joaquin Valley Manufacturing Alliance
X-ORIGINAL-URL:https://sjvma.org
X-WR-CALDESC:Events for San Joaquin Valley Manufacturing Alliance
REFRESH-INTERVAL;VALUE=DURATION:PT1H
X-Robots-Tag:noindex
X-PUBLISHED-TTL:PT1H
BEGIN:VTIMEZONE
TZID:America/Los_Angeles
BEGIN:DAYLIGHT
TZOFFSETFROM:-0800
TZOFFSETTO:-0700
TZNAME:PDT
DTSTART:20220313T100000
END:DAYLIGHT
BEGIN:STANDARD
TZOFFSETFROM:-0700
TZOFFSETTO:-0800
TZNAME:PST
DTSTART:20221106T090000
END:STANDARD
BEGIN:DAYLIGHT
TZOFFSETFROM:-0800
TZOFFSETTO:-0700
TZNAME:PDT
DTSTART:20230312T100000
END:DAYLIGHT
BEGIN:STANDARD
TZOFFSETFROM:-0700
TZOFFSETTO:-0800
TZNAME:PST
DTSTART:20231105T090000
END:STANDARD
BEGIN:DAYLIGHT
TZOFFSETFROM:-0800
TZOFFSETTO:-0700
TZNAME:PDT
DTSTART:20240310T100000
END:DAYLIGHT
BEGIN:STANDARD
TZOFFSETFROM:-0700
TZOFFSETTO:-0800
TZNAME:PST
DTSTART:20241103T090000
END:STANDARD
BEGIN:DAYLIGHT
TZOFFSETFROM:-0800
TZOFFSETTO:-0700
TZNAME:PDT
DTSTART:20250309T100000
END:DAYLIGHT
BEGIN:STANDARD
TZOFFSETFROM:-0700
TZOFFSETTO:-0800
TZNAME:PST
DTSTART:20251102T090000
END:STANDARD
BEGIN:DAYLIGHT
TZOFFSETFROM:-0800
TZOFFSETTO:-0700
TZNAME:PDT
DTSTART:20260308T100000
END:DAYLIGHT
BEGIN:STANDARD
TZOFFSETFROM:-0700
TZOFFSETTO:-0800
TZNAME:PST
DTSTART:20261101T090000
END:STANDARD
BEGIN:DAYLIGHT
TZOFFSETFROM:-0800
TZOFFSETTO:-0700
TZNAME:PDT
DTSTART:20270314T100000
END:DAYLIGHT
BEGIN:STANDARD
TZOFFSETFROM:-0700
TZOFFSETTO:-0800
TZNAME:PST
DTSTART:20271107T090000
END:STANDARD
END:VTIMEZONE
BEGIN:VEVENT
DTSTART;TZID=America/Los_Angeles:20260217T114500
DTEND;TZID=America/Los_Angeles:20260217T130000
DTSTAMP:20260421T041134
CREATED:20260112T214118Z
LAST-MODIFIED:20260130T233420Z
UID:2211-1771328700-1771333200@sjvma.org
SUMMARY:Q1 SJVMA Human Resources Roundtable
DESCRIPTION:Please join SJVMA and Sagaser\, Watkins & Wieland PC to learn about new 2026 labor laws! \nThe California Legislature had a busy session and passed a number of laws that will materially impact California employers and their business operations. \nPlease join us and your Manufacturing HR colleagues for our in-person member roundtable at Tangram Interiors (7700 N. Palm Ave.\, Suite 110\, Fresno\, CA) on Tuesday\, February 17\, 2026 from 11:45am to 1:00pm for great information. \nLunch provided.
URL:https://sjvma.org/event/q1-sjvma-human-resources-roundtable/
LOCATION:Tangram Interiors\, 7700 N. Palm Ave.\, Suite 110\, Fresno\, CA\, 93711\, United States
CATEGORIES:human resources,Meeting,networking,Resources,Round Table,Training,updates,workforce development
END:VEVENT
BEGIN:VEVENT
DTSTART;TZID=America/Los_Angeles:20250919T120000
DTEND;TZID=America/Los_Angeles:20250919T130000
DTSTAMP:20260421T041134
CREATED:20250818T222039Z
LAST-MODIFIED:20250911T221745Z
UID:1962-1758283200-1758286800@sjvma.org
SUMMARY:Q3 Technology Roundtable
DESCRIPTION:🚀 EXCLUSIVE: Chat with the tech transformation expert behind $720M in enterprise success \nDon’t miss this quarter’s game-changing session \n\nWhy this meeting will be different \nStop table-banging frustration. Start seeing results. \nJoin us for an interactive roundtable with Jonathan Lee\, MasterClass Advisors technology guru\, who has: \n\n✅ Generated over $720M in career software and consulting sales\n✅ Delivered 3-8 point EBITDA jumps for leading organizations\n✅ Achieved 27% CAGR and 40%+ gross profit growth\n✅ Founded a successful SaaS company serving SME markets\n✅ Eliminated the “sighs of despair” from enterprise operations\n\n\nReal strategies. Real results. Real transformation. \nCome with questions about \n\nEnterprise transformation frameworks that actually work in the real world\nTechnology integration strategies that boost profitability immediately\nProcess optimization techniques that eliminate operational headaches\nSME market insights from a successful SaaS founder\nNetworking opportunities with forward-thinking tech leaders\nActionable takeaways you can implement next week\n\n📅 Event Details \nDate: Friday\, September 19\, 2025\nTime: 12pm-1pm\nLocation: online – please register here to get event link\nFormat: Interactive Roundtable Discussion \n\nWho Should Attend \n\nTechnology Leaders looking to drive enterprise transformation\nBusiness Owners seeking measurable growth strategies\nOperations Managers tired of inefficient processes\nEntrepreneurs interested in SaaS and SME market strategies\nAnyone ready to turn tech frustration into competitive advantage\n\n\nMember Testimonials \n“Finally\, a tech discussion that focuses on bottom-line results instead of buzzwords.” \n“Jonathan’s practical approach to enterprise transformation is exactly what our industry needs.” \n\nRegister now! \nThis is your chance to learn from someone who has walked the walk – $720M in sales proves it. \nQuestions? Contact Aimee McFarland\, SJVMA Program Director\, at aimee.mcfarland@sjvma.org
URL:https://sjvma.org/event/q3-technology-roundtable/
LOCATION:Online
CATEGORIES:networking,Resources,technology,Training
END:VEVENT
BEGIN:VEVENT
DTSTART;TZID=America/Los_Angeles:20250707T080000
DTEND;TZID=America/Los_Angeles:20250725T163000
DTSTAMP:20260421T041134
CREATED:20250620T173920Z
LAST-MODIFIED:20250620T173927Z
UID:1916-1751875200-1753461000@sjvma.org
SUMMARY:Manufacturing Generalist Program
DESCRIPTION:
URL:https://sjvma.org/event/manufacturing-generalist-program-2/
LOCATION:Fresno City College\, 1101 E. University Ave.\, Fresno\, 93741\, United States
CATEGORIES:Training,workforce development
END:VEVENT
BEGIN:VEVENT
DTSTART;TZID=America/Los_Angeles:20250617T080000
DTEND;TZID=America/Los_Angeles:20250617T170000
DTSTAMP:20260421T041134
CREATED:20250414T184813Z
LAST-MODIFIED:20250414T184813Z
UID:1829-1750147200-1750179600@sjvma.org
SUMMARY:Manufacturing Generalist Program: Orientation
DESCRIPTION:
URL:https://sjvma.org/event/manufacturing-generalist-program-orientation/
LOCATION:Fresno City College\, 1101 E. University Ave.\, Fresno\, 93741\, United States
CATEGORIES:Training,workforce development
END:VEVENT
BEGIN:VEVENT
DTSTART;TZID=America/Los_Angeles:20250508T080000
DTEND;TZID=America/Los_Angeles:20250509T160000
DTSTAMP:20260421T041134
CREATED:20250311T200808Z
LAST-MODIFIED:20250311T200808Z
UID:1767-1746691200-1746806400@sjvma.org
SUMMARY:Export Launchpad Workshop
DESCRIPTION:
URL:https://sjvma.org/event/export-launchpad-workshop/
LOCATION:390 W. Fir Avenue\, Room 214\, Clovis\, CA 93612\, 390 W. Fir Avenue\, Room 214\, Clovis\, CA\, 93612\, United States
CATEGORIES:Marketing,Meeting,networking,Resources,technology,Training,workforce development
END:VEVENT
BEGIN:VEVENT
DTSTART;TZID=America/Los_Angeles:20250507T120000
DTEND;TZID=America/Los_Angeles:20250507T130000
DTSTAMP:20260421T041134
CREATED:20250211T195111Z
LAST-MODIFIED:20250506T190259Z
UID:1718-1746619200-1746622800@sjvma.org
SUMMARY:Q2 SJVMA Tech Roundtable
DESCRIPTION:What is User Experience (UX) and Why Does It Matter? \nJoin us virtually on Tuesday\, May 7 from 12:00–1:00 PM for the next SJVMA Tech Roundtable\, where we’ll explore the importance of user experience (UX) — not just for your customers but for your employees\, your supply chain\, and business partners\, too. \nAlthough UX has been at the heart of technology since the early 2000s\, many small manufacturers are only beginning to adopt this critical concept. Whether you’re just getting started or have insights to share\, this roundtable is your opportunity to learn\, connect\, and contribute. \nKey discussion topics include: \n\nCustomer experience\nUser adoption (internal acceptance and use of technologies)\nJourney mapping\nEnterprise architecture\n\nBring your questions\, your stories\, and your curiosity.\nPlease register here. We look forward to seeing you there!
URL:https://sjvma.org/event/q2-sjvma-tech-roundtable/
LOCATION:Online
CATEGORIES:Meeting,networking,Resources,Round Table,technology,Training,updates
END:VEVENT
BEGIN:VEVENT
DTSTART;TZID=America/Los_Angeles:20250219T120000
DTEND;TZID=America/Los_Angeles:20250219T130000
DTSTAMP:20260421T041134
CREATED:20250205T164439Z
LAST-MODIFIED:20250211T200901Z
UID:1705-1739966400-1739970000@sjvma.org
SUMMARY:Q1 Tech Roundtable
DESCRIPTION:Please join us for a dynamic conversation! Register here! \nA manufacturer’s digital infrastructure should work as a functional tool\, not just a website. Many companies rely on outdated systems that create inefficiencies\, from clunky lead tracking to manual customer management. This roundtable will focus on real-world digital solutions that manufacturers can implement without massive overhauls or unnecessary complexity. \nWe’ll cover how to make your website do more than just sit there. We’ll talk about integrating CRM systems like Zoho or HubSpot\, automating customer inquiries\, order tracking\, and follow-ups\, and ensuring security protocols are in place to protect client and company data. From setting up self-service portals to streamlining repetitive tasks through automation\, we’ll explore specific\, real-world use cases of how manufacturers are using better digital infrastructure to eliminate wasted time and improve customer interactions. \nAdrian Rodriguez\, founder of Anchored Web Solutions\, has been building and optimizing digital infrastructure for businesses for more than 15 years. With a background in mass communication\, web development\, and cybersecurity\, he has helped manufacturers and businesses integrate CRM systems\, workflow automation\, and secure digital tools that improve efficiency and scalability. His expertise is backed by a certification in security best practices through TekSystems.
URL:https://sjvma.org/event/q1-tech-roundtable/
LOCATION:Virtual Event
CATEGORIES:Meeting,networking,Resources,Round Table,technology,Training,updates
END:VEVENT
BEGIN:VEVENT
DTSTART;TZID=America/Los_Angeles:20250213T120000
DTEND;TZID=America/Los_Angeles:20250213T130000
DTSTAMP:20260421T041134
CREATED:20250204T203236Z
LAST-MODIFIED:20250211T202437Z
UID:1608-1739448000-1739451600@sjvma.org
SUMMARY:Q1 HR Roundtable
DESCRIPTION:Join SJVMA as we host Sagaser\, Watkins & Wieland PC to present Labor Law Updates for 2025. \nThe California Legislature again had a busy session and passed a number of laws that will materially impact California employers and their business operations. \nPlease join us and your Manufacturing HR colleagues for our complimentary in-person roundtable at Tangram Interiors (7700 N. Palm Ave.\, Suite 110\, Fresno\, CA) on Thursday\, February 13\, 2025 from 12:00pm to 1:00pm for great information.
URL:https://sjvma.org/event/hr-roundtable-q1/
LOCATION:Tangram Interiors\, 7700 N. Palm Ave.\, Suite 110\, Fresno\, CA\, 93711\, United States
CATEGORIES:human resources,Meeting,networking,Resources,Round Table,Training
END:VEVENT
BEGIN:VEVENT
DTSTART;TZID=America/Los_Angeles:20241120T120000
DTEND;TZID=America/Los_Angeles:20241120T130000
DTSTAMP:20260421T041134
CREATED:20240612T210532Z
LAST-MODIFIED:20240613T000753Z
UID:1376-1732104000-1732107600@sjvma.org
SUMMARY:SJVMA's Team Workshop Series (4 of 4)
DESCRIPTION:Join us for our 4th and final exciting in-person lunch and learn workshop series at Clovis Community College Herndon Campus! These workshops are all about fostering teamwork and enhancing collaboration within your team. Whether you’re a manager\, team leader\, or team member\, attendees will gain valuable insights and practical strategies to boost your team’s growth. Please see our flyer for more info! Seats are limited – reserve yours now!
URL:https://sjvma.org/event/sjvmas-team-workshop-series-4-of-4/
LOCATION:390 W. Fir Ave.\, Building B\, Clovis\, CA 93611\, 390 W. Fir Ave.\, Clovis\, CA\, 93611\, United States
CATEGORIES:networking,Resources,Team building,Training
END:VEVENT
BEGIN:VEVENT
DTSTART;TZID=America/Los_Angeles:20241107T120000
DTEND;TZID=America/Los_Angeles:20241107T130000
DTSTAMP:20260421T041134
CREATED:20240826T183741Z
LAST-MODIFIED:20240826T183741Z
UID:1433-1730980800-1730984400@sjvma.org
SUMMARY:SJVMA's Marketing Roundtable - Effective B2B Marketing for Manufacturers
DESCRIPTION:We are excited to invite you to a special roundtable discussion on how AI software is transforming B2B marketing for manufacturers. Join us to explore the power of the latest language models in streamlining content creation\, targeting the right prospects\, and delivering more personalized customer experiences.\n\n\n\nEvent Details\n\n\n Topic: Leveraging AI in B2B Marketing for Manufacturers\n\n\n Date: Thursday\, November 7\n\n\n Time: 12:00 PM – 1:00 PM\n\n\n Location: Clovis Community College\, Herndon Campus\n\n\n\nDuring this roundtable\, you’ll gain insights into real-world examples and practical tips that can be applied to your business. Whether you’re just beginning to explore AI or looking to enhance your existing strategies\, this discussion will provide valuable knowledge and strategies to help you stay ahead in the competitive landscape.\n\nBring your lunch\, and we will provide beverages!\n\n\n\nBe sure to reserve your spot today!
URL:https://sjvma.org/event/sjvmas-marketing-roundtable-effective-b2b-marketing-for-manufacturers/
LOCATION:390 W. Fir Ave.\, Building B\, Clovis\, CA 93611\, 390 W. Fir Ave.\, Clovis\, CA\, 93611\, United States
CATEGORIES:Meeting,networking,Round Table,technology,Training
END:VEVENT
BEGIN:VEVENT
DTSTART;TZID=America/Los_Angeles:20240821T120000
DTEND;TZID=America/Los_Angeles:20240821T130000
DTSTAMP:20260421T041134
CREATED:20240612T195504Z
LAST-MODIFIED:20240613T000427Z
UID:1374-1724241600-1724245200@sjvma.org
SUMMARY:SJVMA's Team Workshop Series (3 of 4)
DESCRIPTION:Join us for the 3rd installation of our exciting lunch and learn in-person workshop series at Clovis Community College Herndon Campus! These workshops are all about fostering teamwork and enhancing collaboration within your team. Please see our flyer for more info! Seats are limited – reserve yours now!
URL:https://sjvma.org/event/sjvmas-team-workshop-series-3-of-4/
LOCATION:390 W. Fir Ave.\, Building B\, Clovis\, CA 93611\, 390 W. Fir Ave.\, Clovis\, CA\, 93611\, United States
CATEGORIES:networking,Resources,Team building,Training
END:VEVENT
BEGIN:VEVENT
DTSTART;TZID=America/Los_Angeles:20240418T120000
DTEND;TZID=America/Los_Angeles:20240418T130000
DTSTAMP:20260421T041134
CREATED:20240227T011228Z
LAST-MODIFIED:20240314T005910Z
UID:1293-1713441600-1713445200@sjvma.org
SUMMARY:SJVMA Q2 HR Roundtable Virtual Meeting
DESCRIPTION:Beginning July 1\, 2024\, most California employers must establish\, implement\, and maintain a Workplace Violence Prevention Plan that includes: \n\nComprehensive written plan including site-specific needs assessment\nViolent incident log\nEmployee training\nRecordkeeping\n\nJoin us over “virtual lunch” as we break down the SB 553 Workplace Violence Prevention Plan requirements and provide a road map to help you with next steps. \nPresented by Juan (Johnny) Hernandez of Boretti\, Inc. \nApril 18th from 12:00pm-1:00pm \nRegister here\n \n 
URL:https://sjvma.org/event/q2-human-resource-roundtable-virtual-meeting/
LOCATION:Virtual Event
CATEGORIES:human resources,Meeting,networking,new members,Resources,Round Table,Training,updates,workforce development
ATTACH;FMTTYPE=application/pdf:https://sjvma.org/wp-content/uploads/2024/02/SJVMA-WPV-Portrait-1.pdf
END:VEVENT
BEGIN:VEVENT
DTSTART;VALUE=DATE:20231026
DTEND;VALUE=DATE:20231027
DTSTAMP:20260421T041134
CREATED:20230116T004111Z
LAST-MODIFIED:20231009T192500Z
UID:980-1698278400-1698364799@sjvma.org
SUMMARY:8th Annual Valley Made Manufacturing Summit
DESCRIPTION:The Annual Valley Made Manufacturing Summit is designed as a workshop and resource expo that celebrates the Valley’s history of innovation in manufacturing while providing resources and networking opportunities that continue to build a well-trained\, outstanding workforce. Attendees learn from major industry leaders and innovators\, and build valuable relationships to enhance global competitiveness\, while celebrating its thriving business community. To learn more about the 2023 Summit\, Exhibitor benefits\, Sponsorship levels and more\, click here. \nAt its core\, the Summit promotes cross-sector collaboration focused on creating a globally-competitive environment for the Valley’s manufacturing industry. So mark your calendars and plan to join us at this year’s Valley Made Manufacturing Summit on October 26 at the Fresno Convention Center. \nPlease note: If your organization would like to pay by check\, please reach out to genelle@sjvma.org and we can provide you with instructions and a mailing address.  Once your check is received\, we can provide you with an access code to proceed with your registration.\nThank you!\nThe Team at SJVMA
URL:https://sjvma.org/event/8th-annual-valley-made-manufacturing-summit/
LOCATION:Fresno Convention Center\, 848 M St\, Fresno\, CA\, 93721\, United States
CATEGORIES:Meeting,Resources,Tradeshow,Training
ATTACH;FMTTYPE=image/png:https://sjvma.org/wp-content/uploads/2023/01/valleymade.image_.png
END:VEVENT
BEGIN:VEVENT
DTSTART;TZID=America/Los_Angeles:20230802T100000
DTEND;TZID=America/Los_Angeles:20230802T110000
DTSTAMP:20260421T041134
CREATED:20230624T210100Z
LAST-MODIFIED:20230624T210100Z
UID:1082-1690970400-1690974000@sjvma.org
SUMMARY:
DESCRIPTION:Join us on August 2nd with CMTC Client Advisor\, Bruce Ketch\, shares solutions to: \n\nIncrease Sales\nReduce Costs\nImprove Quality\nDevelop Workforce\nImprove Technology\nCreate An Agile Supply Chain…AND MORE!!\n\nWeb: www.cmtc.com \nCalifornia’s trusted resource for a thriving manufacturing industry. \nRegister here!
URL:https://sjvma.org/event/1082/
LOCATION:Virtual Event
CATEGORIES:human resources,Meeting,networking,new members,Resources,Round Table,Training,updates,workforce development
ATTACH;FMTTYPE=image/png:https://sjvma.org/wp-content/uploads/2023/06/cmtc.eventbrite.png
END:VEVENT
BEGIN:VEVENT
DTSTART;TZID=America/Los_Angeles:20230531T100000
DTEND;TZID=America/Los_Angeles:20230531T110000
DTSTAMP:20260421T041134
CREATED:20230502T213826Z
LAST-MODIFIED:20230515T225235Z
UID:1051-1685527200-1685530800@sjvma.org
SUMMARY:SJVMA HR Roundtable Virtual Meeting
DESCRIPTION:Life After COVID- Join us for a panel discussion answering questions related to how business is moving forward\, what have we learned\, and changed as a result. \nRegister here to participate in this HR Roundtable!
URL:https://sjvma.org/event/sjvma-hr-roundtable-virtual-meeting/
CATEGORIES:human resources,networking,new members,Resources,Training,updates,workforce development
ATTACH;FMTTYPE=image/png:https://sjvma.org/wp-content/uploads/2023/01/hrroundtable.image_-e1709063456481.png
END:VEVENT
END:VCALENDAR