BEGIN:VCALENDAR
VERSION:2.0
PRODID:-//San Joaquin Valley Manufacturing Alliance - ECPv6.15.20//NONSGML v1.0//EN
CALSCALE:GREGORIAN
METHOD:PUBLISH
X-WR-CALNAME:San Joaquin Valley Manufacturing Alliance
X-ORIGINAL-URL:https://sjvma.org
X-WR-CALDESC:Events for San Joaquin Valley Manufacturing Alliance
REFRESH-INTERVAL;VALUE=DURATION:PT1H
X-Robots-Tag:noindex
X-PUBLISHED-TTL:PT1H
BEGIN:VTIMEZONE
TZID:America/Los_Angeles
BEGIN:DAYLIGHT
TZOFFSETFROM:-0800
TZOFFSETTO:-0700
TZNAME:PDT
DTSTART:20210314T100000
END:DAYLIGHT
BEGIN:STANDARD
TZOFFSETFROM:-0700
TZOFFSETTO:-0800
TZNAME:PST
DTSTART:20211107T090000
END:STANDARD
BEGIN:DAYLIGHT
TZOFFSETFROM:-0800
TZOFFSETTO:-0700
TZNAME:PDT
DTSTART:20220313T100000
END:DAYLIGHT
BEGIN:STANDARD
TZOFFSETFROM:-0700
TZOFFSETTO:-0800
TZNAME:PST
DTSTART:20221106T090000
END:STANDARD
BEGIN:DAYLIGHT
TZOFFSETFROM:-0800
TZOFFSETTO:-0700
TZNAME:PDT
DTSTART:20230312T100000
END:DAYLIGHT
BEGIN:STANDARD
TZOFFSETFROM:-0700
TZOFFSETTO:-0800
TZNAME:PST
DTSTART:20231105T090000
END:STANDARD
END:VTIMEZONE
BEGIN:VEVENT
DTSTART;TZID=America/Los_Angeles:20220907T083000
DTEND;TZID=America/Los_Angeles:20220907T100000
DTSTAMP:20260423T081128
CREATED:20220701T165337Z
LAST-MODIFIED:20230110T222606Z
UID:723-1662539400-1662544800@sjvma.org
SUMMARY:SJVMA Q3 2022 Member Meeting
DESCRIPTION:Join us for all the latest news and information pertaining to manufacturing within our community. We are here to support you! \n\n\n\nAbout this event \nJoin us for all the latest updates and information pertaining to manufacturing and its ecosystem within our community. \n\n\n\nThis quarter we will be focusing on how much technology\, data\, and engineering play a role in advanced manufacturing. We welcome Sam Parnegian to take us through the amazing advanced operations of Fowler Packing and how technology made it what it is today. \n\n\n\nGrab some coffee and refreshments and network with SJVMA fellow members! Doors open at 8:15 am and meeting begins at 8:30 am.
URL:https://sjvma.org/event/sjvma-q3-2022-member-meeting/
ATTACH;FMTTYPE=image/jpeg:https://sjvma.org/wp-content/uploads/2022/06/hrroundtable.jpeg
END:VEVENT
BEGIN:VEVENT
DTSTART;TZID=America/Los_Angeles:20220818T120000
DTEND;TZID=America/Los_Angeles:20220818T130000
DTSTAMP:20260423T081128
CREATED:20220701T164851Z
LAST-MODIFIED:20220721T004844Z
UID:721-1660824000-1660827600@sjvma.org
SUMMARY:Sales Roundtable Meeting
DESCRIPTION:Join the SJVMA for our newly developed Sales Roundtable \n\n\n\nCustomer Engagement in a Post-Pandemic World \n\n\n\nConsidering the pandemic\, combined with rising costs and supply chain struggles\, it is more important now than ever that we are in front of our key accounts as often as possible. In today’s world\, many manufacturers are dealing with late deliveries\, price increases and record lead times for new business. These factors can put existing business in jeopardy. \n\n\n\nDuring this Sales Roundtable\, we will discuss various topics that relate to the challenges we are facing and what we can do to manage customer expectations and improve communication through this difficult time. \n\n\n\nWe welcome C-Suite and sales professionals to join a group of your peers to discuss best practices and learn new skills for these times of unprecedented constraints.
URL:https://sjvma.org/event/sales-roundtable-meeting/
ATTACH;FMTTYPE=image/jpeg:https://sjvma.org/wp-content/uploads/2022/06/manufacturingmatters-banner.jpg
END:VEVENT
END:VCALENDAR